BEGIN:VCALENDAR
VERSION:2.0
PRODID:-//ChamberMaster//Event Calendar 2.0//EN
METHOD:PUBLISH
X-PUBLISHED-TTL:P3D
REFRESH-INTERVAL:P3D
CALSCALE:GREGORIAN
BEGIN:VEVENT
DTSTART:20260503T200000Z
DTEND:20260503T210000Z
X-MICROSOFT-CDO-ALLDAYEVENT:FALSE
SUMMARY:Yoga with Jenny Bynum
DESCRIPTION:Blooming Circle Mamas join Jenny Bynum for a slow vinoyasa flow yoga - connecting movement to our breath.  All ae welcome\, prenatal friendly\, hope you will join!
X-ALT-DESC;FMTTYPE=text/html:Blooming Circle Mamas join Jenny Bynum for a slow vinoyasa flow yoga - connecting movement to our breath.&nbsp\; All ae welcome\, prenatal friendly\, hope you will join!
LOCATION:Vergennes Movement
UID:e.1111.8023
SEQUENCE:3
DTSTAMP:20260425T224105Z
URL:https://www.addisoncounty.com/events/details/yoga-with-jenny-bynum-8023
END:VEVENT

END:VCALENDAR
