BEGIN:VCALENDAR
VERSION:2.0
PRODID:-//ChamberMaster//Event Calendar 2.0//EN
METHOD:PUBLISH
X-PUBLISHED-TTL:P3D
REFRESH-INTERVAL:P3D
CALSCALE:GREGORIAN
BEGIN:VEVENT
DTSTART:20260530T160000Z
DTEND:20260530T180000Z
X-MICROSOFT-CDO-ALLDAYEVENT:FALSE
SUMMARY:Watercolor Paint-Along
DESCRIPTION:Spend a creative afternoon with us as we follow a step-by-step nature watercolor painting video! Spots are limited email Miranda: miranda.degreenia@bixbylibrary.org to RSVP.
X-ALT-DESC;FMTTYPE=text/html:Spend a creative afternoon with us as we follow a step-by-step nature watercolor painting video! Spots are limited&ndash\;email Miranda: <strong><a href="mailto:miranda.degreenia@bixbylibrary.org">miranda.degreenia@bixbylibrary.org</a></strong> to RSVP.
LOCATION:Bixby Library\, Vergennes
UID:e.1111.7895
SEQUENCE:3
DTSTAMP:20260426T031837Z
URL:https://www.addisoncounty.com/events/details/watercolor-paint-along-7895
END:VEVENT

END:VCALENDAR
