BEGIN:VCALENDAR
VERSION:2.0
PRODID:-//ChamberMaster//Event Calendar 2.0//EN
METHOD:PUBLISH
X-PUBLISHED-TTL:P3D
REFRESH-INTERVAL:P3D
CALSCALE:GREGORIAN
BEGIN:VEVENT
DTSTART:20260521T220000Z
DTEND:20260521T230000Z
X-MICROSOFT-CDO-ALLDAYEVENT:FALSE
SUMMARY:Vermont Reads Book Club: The Light Pirate
DESCRIPTION:Join us for a discussion of The Light Pirate by Lily Brooks-Dalton\, the 2025 Vermont Reads pick! Born during a catastrophic storm\, Wanda comes of age as rising seas and extreme weather reshape coastal Florida. Told in four elemental parts\, this powerful novel explores love and resilience in a world reclaimed by nature.
X-ALT-DESC;FMTTYPE=text/html:Join us for a discussion of The Light Pirate by Lily Brooks-Dalton\, the 2025 Vermont Reads pick! Born during a catastrophic storm\, Wanda comes of age as rising seas and extreme weather reshape coastal Florida. Told in four elemental parts\, this powerful novel explores love and resilience in a world reclaimed by nature.
LOCATION:Bixby Library\, Vergennes
UID:e.1111.7894
SEQUENCE:3
DTSTAMP:20260426T014828Z
URL:https://www.addisoncounty.com/events/details/vermont-reads-book-club-the-light-pirate-7894
END:VEVENT

END:VCALENDAR
