BEGIN:VCALENDAR
VERSION:2.0
PRODID:-//ChamberMaster//Event Calendar 2.0//EN
METHOD:PUBLISH
X-PUBLISHED-TTL:P3D
REFRESH-INTERVAL:P3D
CALSCALE:GREGORIAN
BEGIN:VEVENT
DTSTART:20260501T233000Z
DTEND:20260502T010000Z
X-MICROSOFT-CDO-ALLDAYEVENT:FALSE
SUMMARY:The Kruger Brothers Return
DESCRIPTION:The Kruger Brothers' infuse classical music into folk and bluegrass music which has resulted in a unique sound that has made them a fixture within the world of acoustic music. The Kruger Brothers have received honors and awards over the years not only in the US\, but internationally as well and are too numerous to list\, but most recently (March 2025)\, they were inducted into the Blue Ridge Hall of Fame. In their ever-expanding body of work\, the Kruger Brothers   Jens Kruger (banjo and vocals)\, Uwe Kruger (guitar and lead vocals)\, Joel Landsberg (bass and vocals)\, and (new) Jonah Horton (mandolin)   personify the spirit of exploration and innovation that forms the core of the American musical tradition. This is the Kruger Brothers second time performing in the little city theater\, which is now 100% accessible via a newly installed elevator.
X-ALT-DESC;FMTTYPE=text/html:The Kruger Brothers&rsquo\; infuse classical music into folk and bluegrass music which has resulted in a unique sound that has made them a fixture within the world of acoustic music. The Kruger Brothers have received honors and awards over the years not only in the US\, but internationally as well and are too numerous to list\, but most recently (March 2025)\, they were inducted into the Blue Ridge Hall of Fame. In their ever-expanding body of work\, the Kruger Brothers &ndash\; Jens Kruger (banjo and vocals)\, Uwe Kruger (guitar and lead vocals)\, Joel Landsberg (bass and vocals)\, and (new) Jonah Horton (mandolin) &ndash\; personify the spirit of exploration and innovation that forms the core of the American musical tradition. This is the Kruger Brothers second time performing in the little city theater\, which is now 100% accessible via a newly installed elevator.
LOCATION:Vergennes Opera House 2nd floor 120 Main Street Vergennes\, VT
UID:e.1111.7998
SEQUENCE:3
DTSTAMP:20260425T223208Z
URL:https://www.addisoncounty.com/events/details/the-kruger-brothers-return-7998
END:VEVENT

END:VCALENDAR
