BEGIN:VCALENDAR
VERSION:2.0
PRODID:-//ChamberMaster//Event Calendar 2.0//EN
METHOD:PUBLISH
X-PUBLISHED-TTL:P3D
REFRESH-INTERVAL:P3D
CALSCALE:GREGORIAN
BEGIN:VEVENT
DTSTART:20260423T213000Z
DTEND:20260423T223000Z
X-MICROSOFT-CDO-ALLDAYEVENT:FALSE
SUMMARY:Speakers Bureau Talk: River Memories
DESCRIPTION:Recent storms have shown just how vulnerable our communities are to flooding. In this fascinating talk\, historian Alan Berolzheimer will dive into the history behind our flood-prone towns\, exploring how settlement patterns over time have shaped the risk we face today.
X-ALT-DESC;FMTTYPE=text/html:Recent storms have shown just how vulnerable our communities are to flooding. In this fascinating talk\, historian Alan Berolzheimer will dive into the history behind our flood-prone towns\, exploring how settlement patterns over time have shaped the risk we face today.
LOCATION:Bixby Library\, Vergennes
UID:e.1111.7883
SEQUENCE:3
DTSTAMP:20260421T082224Z
URL:https://www.addisoncounty.com/events/details/speakers-bureau-talk-river-memories-7883
END:VEVENT

END:VCALENDAR
