BEGIN:VCALENDAR
VERSION:2.0
PRODID:-//ChamberMaster//Event Calendar 2.0//EN
METHOD:PUBLISH
X-PUBLISHED-TTL:P3D
REFRESH-INTERVAL:P3D
CALSCALE:GREGORIAN
BEGIN:VEVENT
DTSTART:20260419T180000Z
DTEND:20260419T194500Z
X-MICROSOFT-CDO-ALLDAYEVENT:FALSE
SUMMARY:Plantando Mis Raíces: Mexican Folk Dance Performance
DESCRIPTION:Tierra del Sol is a community-based ballet folklorico whose aim is to preserve\, present\, and promote Mexican cultural heritage through traditional dance and music. They will share the rich beauty and diversity of the dances\, history\, and costumes of Mexico in this matinee event\, alongside Middlebury dancers. This performance is the culminating event of their current Rothrock Residency working with Middlebury students. \n\nFree. No tickets required. Approximate running time: 75 minutes with a 10 minute intermission. A Q&A with the artists will follow the performance. \n\nSponsored by the Rothrock Family Residency Fund for Experiential Learning in the Performing Arts. Learn more about the artists:  https://sites.google.com/site/tierradelsolboston/
X-ALT-DESC;FMTTYPE=text/html:<p>Tierra del Sol is a community-based ballet folklorico whose aim is to preserve\, present\, and promote Mexican cultural heritage through traditional dance and music. They will share the rich beauty and diversity of the dances\, history\, and costumes of Mexico in this matinee event\, alongside Middlebury dancers. This performance is the culminating event of their current Rothrock Residency working with Middlebury&nbsp\;students.&nbsp\;</p>\n\n<p>Free. No tickets required. Approximate running time: 75 minutes with a 10 minute intermission. A Q&amp\;A with the artists will follow the&nbsp\;performance.&nbsp\;</p>\n\n<p>Sponsored by the Rothrock Family Residency Fund for Experiential Learning in the Performing Arts. Learn more about the artists: &nbsp\;<a href="https://nam02.safelinks.protection.outlook.com/?url=https%3A%2F%2Fsites.google.com%2Fsite%2Ftierradelsolboston%2F&amp\;data=05%7C02%7Ccoyne%40middlebury.edu%7Cd76d0870f0b5435fac6b08de85f7e804%7Ca1bb0a191576421dbe93b3a7d4b6dcaa%7C1%7C0%7C639095497049747352%7CUnknown%7CTWFpbGZsb3d8eyJFbXB0eU1hcGkiOnRydWUsIlYiOiIwLjAuMDAwMCIsIlAiOiJXaW4zMiIsIkFOIjoiTWFpbCIsIldUIjoyfQ%3D%3D%7C0%7C%7C%7C&amp\;sdata=cRwoc1TWoGBRAvOTmbKNI3OgsyYEcZEYWZbTyOPgAEQ%3D&amp\;reserved=0" style="box-sizing: border-box\; background-color: initial\; color: rgb(13\, 57\, 95)\; text-decoration: none\; border-bottom: 1px solid\;" title="https://nam02.safelinks.protection.outlook.com/?url=https%3A%2F%2Fsites.google.com%2Fsite%2Ftierradelsolboston%2F&amp\;data=05%7C02%7Ccoyne%40middlebury.edu%7Cd76d0870f0b5435fac6b08de85f7e804%7Ca1bb0a191576421dbe93b3a7d4b6dcaa%7C1%7C0%7C639095497049747352%7CUnknown%7CTWFpbGZsb3d8eyJFbXB0eU1hcGkiOnRydWUsIlYiOiIwLjAuMDAwMCIsIlAiOiJXaW4zMiIsIkFOIjoiTWFpbCIsIldUIjoyfQ%3D%3D%7C0%7C%7C%7C&amp\;sdata=cRwoc1TWoGBRAvOTmbKNI3OgsyYEcZEYWZbTyOPgAEQ%3D&amp\;reserved=0">https://sites.google.com/site/tierradelsolboston/</a></p>\n
LOCATION:Wilson Hall\, McCullough Student Center 14 Old Chapel Road Middlebury\, VT 05753
UID:e.1111.8009
SEQUENCE:3
DTSTAMP:20260421T082308Z
URL:https://www.addisoncounty.com/events/details/plantando-mis-ra&#237;ces-mexican-folk-dance-performance-8009
END:VEVENT

END:VCALENDAR
