BEGIN:VCALENDAR
VERSION:2.0
PRODID:-//ChamberMaster//Event Calendar 2.0//EN
METHOD:PUBLISH
X-PUBLISHED-TTL:P3D
REFRESH-INTERVAL:P3D
CALSCALE:GREGORIAN
BEGIN:VEVENT
DTSTART:20260402T213000Z
DTEND:20260402T223000Z
X-MICROSOFT-CDO-ALLDAYEVENT:FALSE
SUMMARY:Peter Macfarlane Author Talk: The Wolf Faces Backwards
DESCRIPTION:Join us for a talk with Addison author Peter Macfarlane as he reads from and discusses his newly published book\, The Wolf Faces Backwards! This travel journal follows two solo canoe journeys along the Northern Forest Canoe Trail\, including one taken in the unconventional direction.
X-ALT-DESC;FMTTYPE=text/html:Join us for a talk with Addison author Peter Macfarlane as he reads from and discusses his newly published book\, The Wolf Faces Backwards! This travel journal follows two solo canoe journeys along the Northern Forest Canoe Trail\, including one taken in the unconventional direction.
LOCATION:Bixby Library
UID:e.1111.7879
SEQUENCE:3
DTSTAMP:20260421T050942Z
URL:https://www.addisoncounty.com/events/details/peter-macfarlane-author-talk-the-wolf-faces-backwards-7879
END:VEVENT

END:VCALENDAR
