BEGIN:VCALENDAR
VERSION:2.0
PRODID:-//ChamberMaster//Event Calendar 2.0//EN
METHOD:PUBLISH
X-PUBLISHED-TTL:P3D
REFRESH-INTERVAL:P3D
CALSCALE:GREGORIAN
BEGIN:VEVENT
DTSTART:20260509T143000Z
DTEND:20260509T153000Z
X-MICROSOFT-CDO-ALLDAYEVENT:FALSE
SUMMARY:Peaceful Parenting
DESCRIPTION:Join Panton life coach Krista Diego for an engaging workshop focused on finding balance and maintaining a calm\, peaceful parenting framework even on your busiest\, most demanding days. Walk away with practical tools\, fresh perspective\, and renewed confidence to support both yourself and your family.
X-ALT-DESC;FMTTYPE=text/html:Join Panton life coach Krista Diego for an engaging workshop focused on finding balance and maintaining a calm\, peaceful parenting framework even on your busiest\, most demanding days. Walk away with practical tools\, fresh perspective\, and renewed confidence to support both yourself and your family.
LOCATION:Bixby Library\, Vergennes
UID:e.1111.7889
SEQUENCE:3
DTSTAMP:20260426T031304Z
URL:https://www.addisoncounty.com/events/details/peaceful-parenting-7889
END:VEVENT

END:VCALENDAR
