BEGIN:VCALENDAR
VERSION:2.0
PRODID:-//ChamberMaster//Event Calendar 2.0//EN
METHOD:PUBLISH
X-PUBLISHED-TTL:P3D
REFRESH-INTERVAL:P3D
CALSCALE:GREGORIAN
BEGIN:VEVENT
DTSTART:20221117T003000Z
DTEND:20221117T030000Z
X-MICROSOFT-CDO-ALLDAYEVENT:FALSE
SUMMARY:NRBQ - New Rhythm and Blues Quartet
DESCRIPTION:"One of the world's greatest bands   an American treasure." -- Entertainment Weekly NRBQ (New Rhythm and Blues Quartet) rocks the house and turns the stage into a fantastic musical playground. This show will definitely sell out so get your tickets early! NRBQ are that rare group that's eclectic\, stylistically innovative\, and creatively ambitious while also sounding thoroughly unpretentious and accessible. At its best\, NRBQ's music casually mixes up barrelhouse R&B\, British Invasion pop\, fourth-gear rockabilly\, exploratory free jazz\, and dozens of other flavors while giving it all a stomp-down rhythm that makes fans want to dance and expressing a sense of joy and easy good humor that comes straight from the heart. A Special Treat: The Kris Lager Band will be opening the NRBQ show. Based out of Omaha\, Nebraska Kris Lager Band has been zig zagging the country spreading their brand of "Feel Good Funk & Heavy Soul" for over 15 years. Their swaggering rock n roll and blues infused electric guitar grooves will perfectly set the stage for an amazing night of music. General seating. Doors and cash bar open at 6:30pm.
X-ALT-DESC;FMTTYPE=text/html:&ldquo\;One of the world&rsquo\;s greatest bands &hellip\; an American treasure.&rdquo\; -- Entertainment Weekly NRBQ (New Rhythm and Blues Quartet) rocks the house and turns the stage into a fantastic musical playground. This show will definitely sell out so get your tickets early! NRBQ are that rare group that&rsquo\;s eclectic\, stylistically innovative\, and creatively ambitious while also sounding thoroughly unpretentious and accessible. At its best\, NRBQ&lsquo\;s music casually mixes up barrelhouse R&amp\;B\, British Invasion pop\, fourth-gear rockabilly\, exploratory free jazz\, and dozens of other flavors while giving it all a stomp-down rhythm that makes fans want to dance and expressing a sense of joy and easy good humor that comes straight from the heart. A Special Treat: The Kris Lager Band will be opening the NRBQ show. Based out of Omaha\, Nebraska Kris Lager Band has been zig zagging the country spreading their brand of &ldquo\;Feel Good Funk &amp\; Heavy Soul&rdquo\; for over 15 years. Their swaggering rock n roll and blues infused electric guitar grooves will perfectly set the stage for an amazing night of music. General seating. Doors and cash bar open at 6:30pm.
LOCATION:Vergennes Opera House 120 Main Street\, Vergennes\, VT
UID:e.1111.6177
SEQUENCE:3
DTSTAMP:20260421T072650Z
URL:https://www.addisoncounty.com/events/details/nrbq-new-rhythm-and-blues-quartet-6177
END:VEVENT

END:VCALENDAR
