BEGIN:VCALENDAR
VERSION:2.0
PRODID:-//ChamberMaster//Event Calendar 2.0//EN
METHOD:PUBLISH
X-PUBLISHED-TTL:P3D
REFRESH-INTERVAL:P3D
CALSCALE:GREGORIAN
BEGIN:VEVENT
DTSTART:20260429T223000Z
DTEND:20260430T000000Z
X-MICROSOFT-CDO-ALLDAYEVENT:FALSE
SUMMARY:Music in the Parlor at The Tillerman
DESCRIPTION:Join us for our free Wednesday night music series in the parlor. We will have music through April\, visit our events page to see who is playing! We'll be serving cocktails and snacks in the parlor\, but please make a reservation for our dining room or at the bar if you would like to join us for dinner that night.
X-ALT-DESC;FMTTYPE=text/html:Join us for our free Wednesday night music series in the parlor. We will have music through April\, visit our events page to see who is playing! We&rsquo\;ll be serving cocktails and snacks in the parlor\, but please make a reservation for our dining room or at the bar if you would like to join us for dinner that night.
LOCATION:the Tillerman Inn & Restaurant 1868 N. 116 Road Bristol\, VT 05443
UID:e.1111.7912
SEQUENCE:3
DTSTAMP:20260426T000151Z
URL:https://www.addisoncounty.com/events/details/music-in-the-parlor-at-the-tillerman-04-29-2026-7912
END:VEVENT

END:VCALENDAR
