BEGIN:VCALENDAR
VERSION:2.0
PRODID:-//ChamberMaster//Event Calendar 2.0//EN
METHOD:PUBLISH
X-PUBLISHED-TTL:P3D
REFRESH-INTERVAL:P3D
CALSCALE:GREGORIAN
BEGIN:VEVENT
DTSTART:20260502T140000Z
DTEND:20260502T160000Z
X-MICROSOFT-CDO-ALLDAYEVENT:FALSE
SUMMARY:Muffins for Mom-mini photo day
DESCRIPTION:The Blooming Circle presents: Muffins for Mom-mini photo day\, a sweet way to celebrate motherhood!\n\n\n\nJoin us for a sweet and relaxed morning celebrating motherhood.  Enjoy muffins\, connect with other moms\, and take part in a mini photo session to capture this season with your little ones.  A simple meaningful way to be in the memories-not just behind the camera.\n\n\n\nSuggested Donation: $50\n\nJoin us for a mini Mother's Day photo session and receive 3 edited digital images.  Extra photos will be available for purchase if you'd like to keep more memories.
X-ALT-DESC;FMTTYPE=text/html:The Blooming Circle presents: Muffins for Mom-mini photo day\, a sweet way to celebrate motherhood!<br />\n<br />\nJoin us for a sweet and relaxed morning celebrating motherhood.&nbsp\; Enjoy muffins\, connect with other moms\, and take part in a mini photo session to capture this season with your little ones.&nbsp\; A simple meaningful way to be in the memories-not just behind the camera.<br />\n<br />\nSuggested Donation: $50<br />\nJoin us for a mini Mother&#39\;s Day photo session and receive 3 edited digital images.&nbsp\; Extra photos will be available for purchase if you&#39\;d like to keep more memories.
LOCATION:Outdoors-TBD
UID:e.1111.8021
SEQUENCE:3
DTSTAMP:20260425T224053Z
URL:https://www.addisoncounty.com/events/details/muffins-for-mom-mini-photo-day-8021
END:VEVENT

END:VCALENDAR
