BEGIN:VCALENDAR
VERSION:2.0
PRODID:-//ChamberMaster//Event Calendar 2.0//EN
METHOD:PUBLISH
X-PUBLISHED-TTL:P3D
REFRESH-INTERVAL:P3D
CALSCALE:GREGORIAN
BEGIN:VEVENT
DTSTART:20260530T173000Z
DTEND:20260530T183000Z
X-MICROSOFT-CDO-ALLDAYEVENT:FALSE
SUMMARY:Mom Rage-A Maternal Mental Health Month Workshop
DESCRIPTION:The Blooming Circle presents\; Mom Rage-A maternal Mental health Month Workshop.\n\n\n\nMotherhood can bring so much love-and sometimes\, big overwhelming feelings too.  You're not alone.\n\n\n\nJoin us for a Mom Rage Workshop Night in honor of Maternal Mental Health Awareness Month.  This is a safe\, judgment free space to talk opening about anger\, frustration\, and emotional overload in motherhood.\n\n	Learn what "mom rage" really is\n	Understand triggers & nervous system responses\n	Explore practical tools to cope and reset\n	Connect with other moms who get it\n\nThis isn't about shame-it's about support\, awareness and real life strategies.
X-ALT-DESC;FMTTYPE=text/html:The Blooming Circle presents\; Mom Rage-A maternal Mental health Month Workshop.<br />\n<br />\nMotherhood can bring so much love-and sometimes\, big overwhelming feelings too.&nbsp\; You&#39\;re not alone.<br />\n<br />\nJoin us for a Mom Rage Workshop Night in honor of Maternal Mental Health Awareness Month.&nbsp\; This is a safe\, judgment free space to talk opening about anger\, frustration\, and emotional overload in motherhood.\n<ul>\n	<li>Learn what &quot\;mom rage&quot\; really is</li>\n	<li>Understand triggers &amp\; nervous system responses</li>\n	<li>Explore practical tools to cope and reset</li>\n	<li>Connect with other moms who get it</li>\n</ul>\nThis isn&#39\;t about shame-it&#39\;s about support\, awareness and real life strategies.
LOCATION:Bristol Federated Church
UID:e.1111.8020
SEQUENCE:3
DTSTAMP:20260425T224216Z
URL:https://www.addisoncounty.com/events/details/mom-rage-a-maternal-mental-health-month-workshop-8020
END:VEVENT

END:VCALENDAR
