BEGIN:VCALENDAR
VERSION:2.0
PRODID:-//ChamberMaster//Event Calendar 2.0//EN
METHOD:PUBLISH
X-PUBLISHED-TTL:P3D
REFRESH-INTERVAL:P3D
CALSCALE:GREGORIAN
BEGIN:VEVENT
DTSTART:20260417T233000Z
DTEND:20260418T013000Z
X-MICROSOFT-CDO-ALLDAYEVENT:FALSE
SUMMARY:Mean Girls: the Musical
DESCRIPTION:Middlebury College Musical Theatre (MCMT) is proud to present Mean Girls\, the hit Broadway musical based on the iconic film written by Tina Fey. Directed by Lucy Curtis-Cherry ('26.5)\, performances will take place at Town Hall Theater on Thursday\, April 16 at 7:30 PM\; Friday\, April 17 at 7:30 PM\; and Saturday\, April 18 at 2:00 PM and 7:30 PM.\n\n\n\nMean Girls follows Cady Heron (Annalise Houghton '28)\, a teenager who has grown up homeschooled in Africa\, as she enters the chaotic social ecosystem of American high school for the first time. When she is taken under the wing of outcasts Janis Sarkisian (Quinna McCarty '28) and Damian Hubbard (Liam Salerno '27)\, Cady sets out to infiltrate "The Plastics\," the school's most powerful clique\, led by the magnetic and ruthless Regina George (Campbell Keller '26)\, alongside Gretchen Wieners (Julia Gaudet '28) and Karen Smith (Gabriela Rosen '26). But as Cady grows closer to Regina's world   and to Aaron Samuels (Cole Silpe '29)   she begins to lose sight of who she is.\n\n\n\nPacked with high-energy dance numbers\, sharp humor\, and heartfelt moments\, Mean Girls explores friendship\, identity\, and courage. Join MCMT for an unforgettable night of laughter\, music\, and pink!
X-ALT-DESC;FMTTYPE=text/html:Middlebury College Musical Theatre (MCMT) is proud to present Mean Girls\, the hit Broadway musical based on the iconic film written by Tina Fey. Directed by Lucy Curtis-Cherry (&lsquo\;26.5)\, performances will take place at Town Hall Theater on Thursday\, April 16 at 7:30 PM\; Friday\, April 17 at 7:30 PM\; and Saturday\, April 18 at 2:00 PM and 7:30 PM.<br />\n<br />\nMean Girls follows Cady Heron (Annalise Houghton &lsquo\;28)\, a teenager who has grown up homeschooled in Africa\, as she enters the chaotic social ecosystem of American high school for the first time. When she is taken under the wing of outcasts Janis Sarkisian (Quinna McCarty &lsquo\;28) and Damian Hubbard (Liam Salerno &lsquo\;27)\, Cady sets out to infiltrate &ldquo\;The Plastics\,&rdquo\; the school&rsquo\;s most powerful clique\, led by the magnetic and ruthless Regina George (Campbell Keller &lsquo\;26)\, alongside Gretchen Wieners (Julia Gaudet &lsquo\;28) and Karen Smith (Gabriela Rosen &lsquo\;26). But as Cady grows closer to Regina&rsquo\;s world &mdash\; and to Aaron Samuels (Cole Silpe &lsquo\;29) &mdash\; she begins to lose sight of who she is.<br />\n<br />\nPacked with high-energy dance numbers\, sharp humor\, and heartfelt moments\, Mean Girls explores friendship\, identity\, and courage. Join MCMT for an unforgettable night of laughter\, music\, and pink!
LOCATION:Town Hall Theater's Rothrock Mainstage 76 Merchants Row\, Middlebury\, VT 05753
UID:e.1111.7929
SEQUENCE:3
DTSTAMP:20260426T025854Z
URL:https://www.addisoncounty.com/events/details/mean-girls-the-musical-7929
END:VEVENT

END:VCALENDAR
