BEGIN:VCALENDAR
VERSION:2.0
PRODID:-//ChamberMaster//Event Calendar 2.0//EN
METHOD:PUBLISH
X-PUBLISHED-TTL:P3D
REFRESH-INTERVAL:P3D
CALSCALE:GREGORIAN
BEGIN:VEVENT
DTSTART:20260509T150000Z
DTEND:20260509T160000Z
X-MICROSOFT-CDO-ALLDAYEVENT:FALSE
SUMMARY:Make Your Own Flower Suncatcher
DESCRIPTION:Create a bright and beautiful flower suncatcher!  Use colorful materials to design a sun-catching decoration perfect for spring windows.  Limited supplies available\, contact shelby.gagne@bixbylibrary.org to sign up for a spot.
X-ALT-DESC;FMTTYPE=text/html:Create a bright and beautiful flower suncatcher!&nbsp\; Use colorful materials to design a sun-catching decoration perfect for spring windows.&nbsp\; Limited supplies available\, contact <a href="mailto:shelby.gagne@bixbylibrary.org">shelby.gagne@bixbylibrary.org</a> to sign up for a spot.
LOCATION:Bixby Library\, Vergennes
UID:e.1111.7887
SEQUENCE:3
DTSTAMP:20260426T043508Z
URL:https://www.addisoncounty.com/events/details/make-your-own-flower-suncatcher-7887
END:VEVENT

END:VCALENDAR
