BEGIN:VCALENDAR
VERSION:2.0
PRODID:-//ChamberMaster//Event Calendar 2.0//EN
METHOD:PUBLISH
X-PUBLISHED-TTL:P3D
REFRESH-INTERVAL:P3D
CALSCALE:GREGORIAN
BEGIN:VEVENT
DTSTART:20260411T150000Z
DTEND:20260411T160000Z
X-MICROSOFT-CDO-ALLDAYEVENT:FALSE
SUMMARY:Loree Griffin Burns Author Talk
DESCRIPTION:Come enjoy a special presentation and Q&A with nonfiction children's author Loree Griffin Burns as she shares insights from her newest book\, "Extreme Birdwatching: Measuring Change on a Gal pagos Island."
X-ALT-DESC;FMTTYPE=text/html:Come enjoy a special presentation and Q&amp\;A with nonfiction children&rsquo\;s author Loree Griffin Burns as she shares insights from her newest book\, <strong>&ldquo\;Extreme Birdwatching: Measuring Change on a Gal&aacute\;pagos Island.&rdquo\;</strong>
LOCATION:Bixby Library\, Vergennes
UID:e.1111.7881
SEQUENCE:3
DTSTAMP:20260421T033720Z
URL:https://www.addisoncounty.com/events/details/loree-griffin-burns-author-talk-7881
END:VEVENT

END:VCALENDAR
