BEGIN:VCALENDAR
VERSION:2.0
PRODID:-//ChamberMaster//Event Calendar 2.0//EN
METHOD:PUBLISH
X-PUBLISHED-TTL:P3D
REFRESH-INTERVAL:P3D
CALSCALE:GREGORIAN
BEGIN:VEVENT
DTSTART:20260409T230000Z
DTEND:20260410T000000Z
X-MICROSOFT-CDO-ALLDAYEVENT:FALSE
SUMMARY:Looking for Joe-The Amazing Life and Times of Joseph Addison
DESCRIPTION:Doug Anderson thinks we're missing something important.\n\n\n\n"We live in a place called Addison County\, and nobody knows anything about Joseph Addison. His name is on our school districts\, businesses\, nonprofits but we have a collective blind spot about this person."\n\n\n\nAnderson even talked to Angelo Lynn\, publisher of the Addison Independent. "I said\, hey\, Angelo\, this Addison guy has been on your masthead for 80 years. Any idea who he was?'"\n\n\n\n"'Not a clue\," said the publisher.\n\n\n\nJoseph Addison lived in London over 300 years ago. And though he never set foot in North America\, he played a vital role in the American Revolution. Anderson will bring this story to life in an entertaining evening he's calling Looking for Joe\, which will be a fundraiser for the Henry Sheldon Museum of Vermont History and Town Hall Theater.\n\n\n\nThe evening will be the first of many events at Town Hall Theater celebrating the 250th anniversary of American Independence.\n\n\n\nThe story starts in London coffee shops in the early 1700s\, which were the seedbeds of democracy\, as that was the one place where you could speak freely. "If you wanted to complain about the Crown or anything else for that matter\, you did it in a coffee shop\," says Anderson.\n\n\n\nThis was Addison's world. He took what he overheard and created newspapers so everyone had access to the free-wheeling debates about politics\, philosophy\, and citizenship. At one point\, over 50\,000 Londoners were reading Addison's newspapers.\n\n\n\nAddison was also a playwright\, and it was his hit play\, Cato\, that had a profound effect on the American Revolution. The title character is the Roman general who stood up to Caesar and tyranny\, so it's maybe no surprise that it was the most popular play in the colonies. The play spoke directly to resistance\, to be willing to lay down your life for freedom.\n\n\n\nCato was George Washington's favorite play. Jefferson and Adams quoted from it in their letters. When Nathan Hale said\, "I regret that I have only one life to give for my country\," he was quoting Joseph Addison.\n\n\n\nThat's our Joe\, the Addison of Addison County.\n\n\n\nLooking for Joe will feature not only Anderson but professional actor Jeremy Holm\, who will portray Addison. Holm is perhaps best known for his continuing role in the TV series House of Cards\, and he has dozens of films and TV shows to his credit. Holm lives in Vergennes and currently sits on THT's Board of Directors.\n\n\n\n"We were so lucky to get him between film shoots\," says Anderson.\n\n\n\nLooking for Joe will be performed in the Anderson Studio at Town Hall Theater on Thursday\, April 9 and Friday\, April 10 at 7pm with an approximate one-hour running time. The Town Hall Theater bar will be open from 6-7pm\, and the Anderson Studio will have a cabaret feel. It will be a fundraiser for both the Henry Sheldon Museum of American History and Town Hall Theater. Tickets are: $25/regular seating\; $35/table seating\; $50/generous (regular or table). For tickets and info\, go to www.townhalltheater.org\, of call the THT box office at 802-382-9222 (Mon-Fri\, Noon-5:00).
X-ALT-DESC;FMTTYPE=text/html:Doug Anderson thinks we&rsquo\;re missing something important.<br />\n<br />\n<em>&ldquo\;We live in a place called Addison County\, and nobody knows anything about Joseph Addison. His name is on our school districts\, businesses\, nonprofits&hellip\;but we have a collective blind spot about this person.&rdquo\;</em><br />\n<br />\nAnderson even talked to Angelo Lynn\, publisher of the Addison Independent. <em>&ldquo\;I said\, hey\, Angelo\, this Addison guy has been on your masthead for 80 years. Any idea who he was?&rsquo\;&rdquo\;</em><br />\n<br />\n<em>&ldquo\;&rsquo\;Not a clue\,&rdquo\;</em> said the publisher.<br />\n<br />\nJoseph Addison lived in London over 300 years ago. And though he never set foot in North America\, he played a vital role in the American Revolution. Anderson will bring this story to life in an entertaining evening he&rsquo\;s calling Looking for Joe\, which will be a fundraiser for the Henry Sheldon Museum of Vermont History and Town Hall Theater.<br />\n<br />\nThe evening will be the first of many events at Town Hall Theater celebrating the 250th anniversary of American Independence.<br />\n<br />\nThe story starts in London coffee shops in the early 1700s\, which were the seedbeds of democracy\, as that was the one place where you could speak freely. <em>&ldquo\;If you wanted to complain about the Crown or anything else for that matter\, you did it in a coffee shop\,&rdquo\;</em> says Anderson.<br />\n<br />\nThis was Addison&rsquo\;s world. He took what he overheard and created newspapers so everyone had access to the free-wheeling debates about politics\, philosophy\, and citizenship. At one point\, over 50\,000 Londoners were reading Addison&rsquo\;s newspapers.<br />\n<br />\nAddison was also a playwright\, and it was his hit play\, Cato\, that had a profound effect on the American Revolution. The title character is the Roman general who stood up to Caesar and tyranny\, so it&rsquo\;s maybe no surprise that it was the most popular play in the colonies. The play spoke directly to resistance\, to be willing to lay down your life for freedom.<br />\n<br />\nCato was George Washington&#39\;s favorite play. Jefferson and Adams quoted from it in their letters. When Nathan Hale said\,<em> &ldquo\;I regret that I have only one life to give for my country\,&rdquo\;</em> he was quoting Joseph Addison.<br />\n<br />\nThat&rsquo\;s our Joe\, the Addison of Addison County.<br />\n<br />\nLooking for Joe will feature not only Anderson but professional actor Jeremy Holm\, who will portray Addison. Holm is perhaps best known for his continuing role in the TV series House of Cards\, and he has dozens of films and TV shows to his credit. Holm lives in Vergennes and currently sits on THT&rsquo\;s Board of Directors.<br />\n<br />\n<em>&ldquo\;We were so lucky to get him between film shoots\,&rdquo\;</em> says Anderson.<br />\n<br />\nLooking for Joe will be performed in the Anderson Studio at Town Hall Theater on Thursday\, April 9 and Friday\, April 10 at 7pm with an approximate one-hour running time. The Town Hall Theater bar will be open from 6-7pm\, and the Anderson Studio will have a cabaret feel. It will be a fundraiser for both the Henry Sheldon Museum of American History and Town Hall Theater. Tickets are: $25/regular seating\; $35/table seating\; $50/generous (regular or table). For tickets and info\, go to www.townhalltheater.org\, of call the THT box office at 802-382-9222 (Mon-Fri\, Noon-5:00).
LOCATION:Anderson Studio at Town Hall Theater\, 72 Merchants Row\, Middlebury
UID:e.1111.7916
SEQUENCE:3
DTSTAMP:20260426T013942Z
URL:https://www.addisoncounty.com/events/details/looking-for-joe-the-amazing-life-and-times-of-joseph-addison-7916
END:VEVENT

END:VCALENDAR
