BEGIN:VCALENDAR
VERSION:2.0
PRODID:-//ChamberMaster//Event Calendar 2.0//EN
METHOD:PUBLISH
X-PUBLISHED-TTL:P3D
REFRESH-INTERVAL:P3D
CALSCALE:GREGORIAN
BEGIN:VEVENT
DTSTART:20260426T190000Z
DTEND:20260426T200000Z
X-MICROSOFT-CDO-ALLDAYEVENT:FALSE
SUMMARY:John and Marianne Dwight Orvis: An Abolitionist & Artist Seek Utopia
DESCRIPTION:John Orvis grew up in Ferrisburgh steeped in a shared Quaker faith and abolitionist fervor with his neighbors\, the Robinsons. Through letters\, artifacts and works of art discover John and Marianne Orvis' life of activism and social reform. This Conversations in History presentation is led by long-standing Vermonter Clark Hinsdale III.
X-ALT-DESC;FMTTYPE=text/html:John Orvis grew up in Ferrisburgh steeped in a shared Quaker faith and abolitionist fervor with his neighbors\, the Robinsons.&nbsp\;Through letters\, artifacts and works of art discover John and Marianne Orvis&rsquo\; life of activism and social reform. This Conversations in History&nbsp\;presentation is led by long-standing Vermonter Clark Hinsdale III.
LOCATION:Ferrisburgh Town Hall
UID:e.1111.7996
SEQUENCE:3
DTSTAMP:20260421T033418Z
URL:https://www.addisoncounty.com/events/details/john-and-marianne-dwight-orvis-an-abolitionist-artist-seek-utopia-7996
END:VEVENT

END:VCALENDAR
