BEGIN:VCALENDAR
VERSION:2.0
PRODID:-//ChamberMaster//Event Calendar 2.0//EN
METHOD:PUBLISH
X-PUBLISHED-TTL:P3D
REFRESH-INTERVAL:P3D
CALSCALE:GREGORIAN
BEGIN:VEVENT
DTSTART:20130206T170000Z
DTEND:20130206T183000Z
X-MICROSOFT-CDO-ALLDAYEVENT:FALSE
SUMMARY:Healthcare Decisions
DESCRIPTION:Join the Chamber to discuss the changes coming to the small business health insurance market in 2013 and 2014. Topics to be covered:  \n\n\n	\n		Changes required by the federal Affordable Care Act\n	\n		How these changes are being implemented in Vermont and what they mean to Vermont's small businesses \n	\n		Should a small business stop offering health insurance or continue to offer insurance through Vermont's on-line Health Benefit Exchange
X-ALT-DESC;FMTTYPE=text/html:<span style="font-size:12px\;"><span style="font-family: arial\;">Join the Chamber to discuss the changes coming to the small business health insurance market in 2013 and 2014. Topics to be covered:&nbsp\; </span></span><br />\n<ul>\n	<li>\n		<span style="font-size:12px\;"><span style="font-family: arial\;">Changes required by the federal Affordable Care Act</span></span></li>\n	<li>\n		<span style="font-size:12px\;"><span style="font-family: arial\;">How these changes are being implemented in Vermont and what they mean to Vermont&rsquo\;s small businesses </span></span></li>\n	<li>\n		<span style="font-size:12px\;"><span style="font-family: arial\;"><span style="font-size:12px\;"><span style="font-family: arial\;">Should a small business stop offering health insurance or continue to offer insurance through Vermont&#39\;s on-line Health Benefit Exchange</span></span></span></span></li>\n</ul>\n
LOCATION:Community Room\, Ilsley Library
UID:e.1111.2235
SEQUENCE:3
DTSTAMP:20260421T151650Z
URL:https://www.addisoncounty.com/events/details/healthcare-decisions-02-06-2013-2235
END:VEVENT

END:VCALENDAR
