BEGIN:VCALENDAR
VERSION:2.0
PRODID:-//ChamberMaster//Event Calendar 2.0//EN
METHOD:PUBLISH
X-PUBLISHED-TTL:P3D
REFRESH-INTERVAL:P3D
CALSCALE:GREGORIAN
BEGIN:VEVENT
DTSTART:20260429T200000Z
DTEND:20260429T210000Z
X-MICROSOFT-CDO-ALLDAYEVENT:FALSE
SUMMARY:Funlab: Make Your Own Stickers
DESCRIPTION:Discover the art of flower hammering at Funlab! Use real flowers to create beautiful\, nature inspired designs through this unique hands-on process.
X-ALT-DESC;FMTTYPE=text/html:Discover the art of flower hammering at Funlab! Use real flowers to create beautiful\, nature inspired designs through this unique hands-on process.
LOCATION:Bixby Library\, Vergennes
UID:e.1111.7886
SEQUENCE:3
DTSTAMP:20260421T050543Z
URL:https://www.addisoncounty.com/events/details/funlab-make-your-own-stickers-7886
END:VEVENT

END:VCALENDAR
