BEGIN:VCALENDAR
VERSION:2.0
PRODID:-//ChamberMaster//Event Calendar 2.0//EN
METHOD:PUBLISH
X-PUBLISHED-TTL:P3D
REFRESH-INTERVAL:P3D
CALSCALE:GREGORIAN
BEGIN:VEVENT
DTSTART:20260415T200000Z
DTEND:20260415T210000Z
X-MICROSOFT-CDO-ALLDAYEVENT:FALSE
SUMMARY:Funlab: Make Your Own Stickers
DESCRIPTION:Design and create your own custom stickers at FunLab! A fun creative program where kids can turn ordinary paper into cool stickers to take home.
X-ALT-DESC;FMTTYPE=text/html:Design and create your own custom stickers at FunLab! A fun creative program where kids can turn ordinary paper into cool stickers to take home.
LOCATION:Bixby Library\, Vergennes
UID:e.1111.7884
SEQUENCE:3
DTSTAMP:20260421T052005Z
URL:https://www.addisoncounty.com/events/details/funlab-make-your-own-stickers-7884
END:VEVENT

END:VCALENDAR
