BEGIN:VCALENDAR
VERSION:2.0
PRODID:-//ChamberMaster//Event Calendar 2.0//EN
METHOD:PUBLISH
X-PUBLISHED-TTL:P3D
REFRESH-INTERVAL:P3D
CALSCALE:GREGORIAN
BEGIN:VEVENT
DTSTART:20260527T200000Z
DTEND:20260527T210000Z
X-MICROSOFT-CDO-ALLDAYEVENT:FALSE
SUMMARY:Funlab: Make Your Own Bubble Wand
DESCRIPTION:Design and build your very own bubble wand at Funlab!  Experiment with different shapes and materials to create a wand that makes bubbles big\, small\, or anywhere in between.  Then put it to the test and watch your bubbles float\, shimmer and pop.
X-ALT-DESC;FMTTYPE=text/html:Design and build your very own bubble wand at Funlab!&nbsp\; Experiment with different shapes and materials to create a wand that makes bubbles big\, small\, or anywhere in between.&nbsp\; Then put it to the test and watch your bubbles float\, shimmer and pop.
LOCATION:Bixby Library\, Vergennes
UID:e.1111.7891
SEQUENCE:3
DTSTAMP:20260426T031933Z
URL:https://www.addisoncounty.com/events/details/funlab-make-your-own-bubble-wand-7891
END:VEVENT

END:VCALENDAR
