BEGIN:VCALENDAR
VERSION:2.0
PRODID:-//ChamberMaster//Event Calendar 2.0//EN
METHOD:PUBLISH
X-PUBLISHED-TTL:P3D
REFRESH-INTERVAL:P3D
CALSCALE:GREGORIAN
BEGIN:VEVENT
DTSTART:20260513T200000Z
DTEND:20260513T210000Z
X-MICROSOFT-CDO-ALLDAYEVENT:FALSE
SUMMARY:Funlab: Make your own Bouncy Ball
DESCRIPTION:Get ready to bounce into creativity!  Join us for a hands-on Funlab where participants of all ages can learn how to make their own classic bouncy ball toy from simple materials.  Using war water\, borax\, clear glue and a splash of color or glitter\, you'll mix\, squish and shape your way to a custom-made ball that you can take home an test for bounce!
X-ALT-DESC;FMTTYPE=text/html:Get ready to bounce into creativity!&nbsp\; Join us for a hands-on Funlab where participants of all ages can learn how to make their own classic bouncy ball toy from simple materials.&nbsp\; Using war water\, borax\, clear glue and a splash of color or glitter\, you&#39\;ll mix\, squish and shape your way to a custom-made ball that you can take home an test for bounce!
LOCATION:Bixby Library\, Vergennes
UID:e.1111.7888
SEQUENCE:3
DTSTAMP:20260426T031957Z
URL:https://www.addisoncounty.com/events/details/funlab-make-your-own-bouncy-ball-7888
END:VEVENT

END:VCALENDAR
