BEGIN:VCALENDAR
VERSION:2.0
PRODID:-//ChamberMaster//Event Calendar 2.0//EN
METHOD:PUBLISH
X-PUBLISHED-TTL:P3D
REFRESH-INTERVAL:P3D
CALSCALE:GREGORIAN
BEGIN:VEVENT
DTSTART:20260502T140000Z
DTEND:20260502T180000Z
X-MICROSOFT-CDO-ALLDAYEVENT:FALSE
SUMMARY:Friends of Ilsley Library Book sale
DESCRIPTION:The Friends will be ready for action at another book sale on May 2 and hope to see you there. Come check out our fiction collection\, now shelved on our new book carts constructed by students at the Hannaford Career Center. Nonfiction and children's books are available along with coffee table and specially priced books. Most books are $2 or less\, cash or check only\, please. Funds raised from your donations and purchases benefit Ilsley Library programming for all ages. NOTE: We regret that there is no longer any early entry for members of the Friends\; doors open at 10:00.
X-ALT-DESC;FMTTYPE=text/html:The Friends will be ready for action at another book sale on May 2 and hope to see you there. Come check out our fiction collection\, now shelved on our new book carts constructed by students at the Hannaford Career Center. Nonfiction and children&#39\;s books are available along with coffee table and specially priced books. Most books are $2 or less\, cash or check only\, please. Funds raised from your donations and purchases benefit Ilsley Library programming for all ages. NOTE: We regret that there is no longer any early entry for members of the Friends\; doors open at 10:00.
LOCATION:Middlebury United Methodist Church
UID:e.1111.8013
SEQUENCE:3
DTSTAMP:20260425T224244Z
URL:https://www.addisoncounty.com/events/details/friends-of-ilsley-library-book-sale-05-02-2026-8013
END:VEVENT

END:VCALENDAR
