BEGIN:VCALENDAR
VERSION:2.0
PRODID:-//ChamberMaster//Event Calendar 2.0//EN
METHOD:PUBLISH
X-PUBLISHED-TTL:P3D
REFRESH-INTERVAL:P3D
CALSCALE:GREGORIAN
BEGIN:VEVENT
DTSTART:20260515T140000Z
DTEND:20260515T150000Z
X-MICROSOFT-CDO-ALLDAYEVENT:FALSE
SUMMARY:Fresh Air Fridays
DESCRIPTION:Join the Blooming Circle every Friday this May for Fresh Air Fridays!\n\n\n\nIn honor of Maternal Mental Health Month\, we're creating space to step outside\, breathe deeply\, and connect with others who understand this season of life.\n\n	Fresh Air\n	Light movement (stroller-friendly!)\n	Real conversation & community\n\nOn 5/1 and 5/15 we'll gather for group and then head out for a walk together.  No pressure\, no expectations-just come as you are.\n\n\n\nVarious locations\, babies & toddlers welcome\, you're not alone!
X-ALT-DESC;FMTTYPE=text/html:Join the Blooming Circle every Friday this May for Fresh Air Fridays!<br />\n<br />\nIn honor of Maternal Mental Health Month\, we&#39\;re creating space to step outside\, breathe deeply\, and connect with others who understand this season of life.\n<ul>\n	<li>Fresh Air</li>\n	<li>Light movement (stroller-friendly!)</li>\n	<li>Real conversation &amp\; community</li>\n</ul>\nOn 5/1 and 5/15 we&#39\;ll gather for group and then head out for a walk together.&nbsp\; No pressure\, no expectations-just come as you are.<br />\n<br />\nVarious locations\, babies &amp\; toddlers welcome\, you&#39\;re not alone!
LOCATION:Various
UID:e.1111.8017
SEQUENCE:3
DTSTAMP:20260425T224211Z
URL:https://www.addisoncounty.com/events/details/fresh-air-fridays-05-15-2026-8017
END:VEVENT

END:VCALENDAR
