BEGIN:VCALENDAR
VERSION:2.0
PRODID:-//ChamberMaster//Event Calendar 2.0//EN
METHOD:PUBLISH
X-PUBLISHED-TTL:P3D
REFRESH-INTERVAL:P3D
CALSCALE:GREGORIAN
BEGIN:VEVENT
DTSTART:20260512T133000Z
DTEND:20260512T143000Z
X-MICROSOFT-CDO-ALLDAYEVENT:FALSE
SUMMARY:Educational Webinar Series: Small Business Lending
DESCRIPTION:Join us this session for a presentation that will guide attendees through the various sources of capital available to small businesses in Vermont. We will identify both conventional lenders\, such as local banks\, and alternative lenders\, such as Community Capital of Vermont and the Vermont Community Loan Fund.\n\n\nThis members-only webinar series is co-sponsored by the Addison County Chamber of Commerce and Addison County Economic Development Corporation. Seminars are open exclusively to members of the Chamber and the ACEDC.
X-ALT-DESC;FMTTYPE=text/html:Join us this session for a&nbsp\;presentation that will guide attendees through the various sources of capital available to small businesses in Vermont. We will identify both conventional lenders\, such as local banks\, and alternative lenders\, such as Community Capital of Vermont and the Vermont Community Loan Fund.\n<p dir="ltr"><br />\n<em>This <strong>members-only webinar series</strong> is co-sponsored by the Addison County Chamber of Commerce and&nbsp\;<span style="text-align: justify\;">Addison County Economic Development Corporation.&nbsp\;</span>Seminars are open exclusively to members of the Chamber and the ACEDC.&nbsp\;</em></p>\n
LOCATION:Virtual via Zoom Link will be sent one day prior to the webinar.
UID:e.1111.8032
SEQUENCE:3
DTSTAMP:20260424T141235Z
URL:https://www.addisoncounty.com/events/details/educational-webinar-series-small-business-lending-8032
END:VEVENT

END:VCALENDAR
