BEGIN:VCALENDAR
VERSION:2.0
PRODID:-//ChamberMaster//Event Calendar 2.0//EN
METHOD:PUBLISH
X-PUBLISHED-TTL:P3D
REFRESH-INTERVAL:P3D
CALSCALE:GREGORIAN
BEGIN:VEVENT
DTSTART:20230509T160000Z
DTEND:20230509T173000Z
X-MICROSOFT-CDO-ALLDAYEVENT:FALSE
SUMMARY:Educational Series: Working Around the Match & Through the Grant Process
DESCRIPTION:The world is currently awash in pandemic-relief grant funding\, but the work of securing it remains a challenge\, especially for Vermont's small towns and nonprofits. Come learn strategies and tips from the leaders of three organizations that have survived the grant-writing/administration process\, successfully secured funds\, and came up with the match!\n\n\n\nJoining us will be Susan McClure\, Executive Director\, Lake Champlain Maritime Museum\; Valerie Capels\, Town Administrator\, Town of Bristol\; and Helena Van Voorst\, Executive Director\, United Way of Addison County.\n\n\n\nThis members-only webinar series is co-sponsored by the Addison County Chamber of Commerce and Addison County Economic Development Corporation. Seminars are open exclusively to members of the Chamber and the ACEDC. Guests of members will be considered based upon availability and individual non-member guests may only attend (1) one webinar per calendar year.
X-ALT-DESC;FMTTYPE=text/html:<p>The world is currently awash in pandemic-relief grant funding\, but the work of securing it remains a challenge\, especially for&nbsp\;Vermont&rsquo\;s small towns and&nbsp\;nonprofits. Come learn strategies and tips from the leaders of three organizations that have survived the grant-writing/administration process\, successfully secured funds\, and came up with the match!<br />\n<br />\nJoining us will be <strong>Susan McClure</strong>\, Executive Director\, Lake Champlain Maritime Museum\; <strong>Valerie Capels</strong>\, Town Administrator\, Town of Bristol\; and <strong>Helena Van Voorst</strong>\, Executive Director\, United Way of Addison County.<br />\n<br />\n<em>This <strong>members-only webinar series</strong> is co-sponsored by the Addison County Chamber of Commerce and&nbsp\;<span style="text-align: justify\;">Addison County Economic Development Corporation.&nbsp\;</span>Seminars are open exclusively to members of the Chamber and the ACEDC. Guests of members will be considered based upon availability and individual non-member guests may only attend (1) one webinar per calendar year.</em></p>\n
LOCATION:IN PERSON National Bank of Middlebury Community Room 30 Main Street Middlebury\, VT 05753 (remote access available)
UID:e.1111.6222
SEQUENCE:3
DTSTAMP:20260423T163753Z
URL:https://www.addisoncounty.com/events/details/educational-series-working-around-the-match-through-the-grant-process-6222
END:VEVENT

END:VCALENDAR
