BEGIN:VCALENDAR
VERSION:2.0
PRODID:-//ChamberMaster//Event Calendar 2.0//EN
METHOD:PUBLISH
X-PUBLISHED-TTL:P3D
REFRESH-INTERVAL:P3D
CALSCALE:GREGORIAN
BEGIN:VEVENT
DTSTART:20250619T213000Z
DTEND:20250619T230000Z
X-MICROSOFT-CDO-ALLDAYEVENT:FALSE
SUMMARY:Chamber Networking Mixer - June
DESCRIPTION:Join us for an evening of networking\, build business relationships\, exchange leads\, while getting  to know the business community. Enjoy light snacks and door prizes courtesy of our host\; plus the opportunity to win our monthly CHAMBER CASH RAFFLE! We look forward to seeing you all there.
X-ALT-DESC;FMTTYPE=text/html:Join us for an evening of networking\, build business relationships\, exchange leads\, while getting&nbsp\; to know the business community. Enjoy light snacks and door prizes courtesy of our host\; plus&nbsp\;the opportunity to win our monthly&nbsp\;<strong><a href="https://chambermaster.blob.core.windows.net/userfiles/UserFiles/chambers/1111/CMS/Events/Mixers/Chamber-Cash-Raffle-Guidelines.pdf" target="_blank">CHAMBER CASH RAFFLE</a></strong>! We look forward to seeing you all there.
LOCATION:Berkshire Hathaway HomeServices\, The Landmark Group 86 Main Street Vergennes\, VT 05491
UID:e.1111.7211
SEQUENCE:3
DTSTAMP:20260421T082135Z
URL:https://www.addisoncounty.com/events/details/chamber-networking-mixer-june-7211
END:VEVENT

END:VCALENDAR
