BEGIN:VCALENDAR
VERSION:2.0
PRODID:-//ChamberMaster//Event Calendar 2.0//EN
METHOD:PUBLISH
X-PUBLISHED-TTL:P3D
REFRESH-INTERVAL:P3D
CALSCALE:GREGORIAN
BEGIN:VEVENT
DTSTART:20260523T143000Z
DTEND:20260523T160000Z
X-MICROSOFT-CDO-ALLDAYEVENT:FALSE
SUMMARY:Baby Picnic
DESCRIPTION:Bring a blanket and join us for a Baby Picnic!  Enjoy stories and playtime in a relaxed\, outdoor-style setting designed for babies and caregivers.  We will have baby approved snacks also!
X-ALT-DESC;FMTTYPE=text/html:Bring a blanket and join us for a Baby Picnic!&nbsp\; Enjoy stories and playtime in a relaxed\, outdoor-style setting designed for babies and caregivers.&nbsp\; We will have baby approved snacks also!
LOCATION:Bixby Library\, Vergennes
UID:e.1111.7890
SEQUENCE:3
DTSTAMP:20260423T175702Z
URL:https://www.addisoncounty.com/events/details/baby-picnic-7890
END:VEVENT

END:VCALENDAR
