BEGIN:VCALENDAR
VERSION:2.0
PRODID:-//ChamberMaster//Event Calendar 2.0//EN
METHOD:PUBLISH
X-PUBLISHED-TTL:P3D
REFRESH-INTERVAL:P3D
CALSCALE:GREGORIAN
BEGIN:VEVENT
DTSTART:20260404T163000Z
DTEND:20260404T180000Z
X-MICROSOFT-CDO-ALLDAYEVENT:FALSE
SUMMARY:Atlantic Crossing Spring Concert
DESCRIPTION:Enjoy a free concert by the beloved local band Atlantic Crossing! Their foot-stomping New England roots music blends folk melodies and local history\, taking listeners on a journey across Vermont and New England.
X-ALT-DESC;FMTTYPE=text/html:Enjoy a free concert by the beloved local band Atlantic Crossing! Their foot-stomping New England roots music blends folk melodies and local history\, taking listeners on a journey across Vermont and New England.
LOCATION:Bixby Library\, Vergennes
UID:e.1111.7880
SEQUENCE:3
DTSTAMP:20260421T050610Z
URL:https://www.addisoncounty.com/events/details/atlantic-crossing-spring-concert-7880
END:VEVENT

END:VCALENDAR
